BEGIN:VCALENDAR
VERSION:2.0
PRODID:-//Life Temple - ECPv6.15.20//NONSGML v1.0//EN
CALSCALE:GREGORIAN
METHOD:PUBLISH
X-WR-CALNAME:Life Temple
X-ORIGINAL-URL:https://lifetemple.earth
X-WR-CALDESC:Events for Life Temple
REFRESH-INTERVAL;VALUE=DURATION:PT1H
X-Robots-Tag:noindex
X-PUBLISHED-TTL:PT1H
BEGIN:VTIMEZONE
TZID:America/New_York
BEGIN:DAYLIGHT
TZOFFSETFROM:-0500
TZOFFSETTO:-0400
TZNAME:EDT
DTSTART:20290311T070000
END:DAYLIGHT
BEGIN:STANDARD
TZOFFSETFROM:-0400
TZOFFSETTO:-0500
TZNAME:EST
DTSTART:20291104T060000
END:STANDARD
BEGIN:DAYLIGHT
TZOFFSETFROM:-0500
TZOFFSETTO:-0400
TZNAME:EDT
DTSTART:20300310T070000
END:DAYLIGHT
BEGIN:STANDARD
TZOFFSETFROM:-0400
TZOFFSETTO:-0500
TZNAME:EST
DTSTART:20301103T060000
END:STANDARD
BEGIN:DAYLIGHT
TZOFFSETFROM:-0500
TZOFFSETTO:-0400
TZNAME:EDT
DTSTART:20310309T070000
END:DAYLIGHT
BEGIN:STANDARD
TZOFFSETFROM:-0400
TZOFFSETTO:-0500
TZNAME:EST
DTSTART:20311102T060000
END:STANDARD
BEGIN:DAYLIGHT
TZOFFSETFROM:-0500
TZOFFSETTO:-0400
TZNAME:EDT
DTSTART:20320314T070000
END:DAYLIGHT
BEGIN:STANDARD
TZOFFSETFROM:-0400
TZOFFSETTO:-0500
TZNAME:EST
DTSTART:20321107T060000
END:STANDARD
END:VTIMEZONE
BEGIN:VEVENT
DTSTART;TZID=America/New_York:20301129T173000
DTEND;TZID=America/New_York:20301129T183000
DTSTAMP:20260420T152655
CREATED:20260420T143903Z
LAST-MODIFIED:20260420T143905Z
UID:10003407-1922203800-1922207400@lifetemple.earth
SUMMARY:Friday yoga: Strength & Stillness
DESCRIPTION:Join us at Life Temple on Fridays for a diverse and nurturing yoga experience. \nOur sessions alternate between traditional Hatha Yoga\, designed to build strength and flexibility\, and slower\, more mindful practices like Yin Yoga\, which focus on deep relaxation and releasing tension. \nThe classes offer a blend of movement and stillness that fosters a deeper mind-body connection and harmony. \nWhether you’re seeking a more dynamic experience or a deeply restorative practice\, each experience is an opportunity for you to expand and connect. \nTime: 5:30pm–6:30pm\nDonations are appreciated.
URL:https://lifetemple.earth/event/friday-yoga-strength-stillness-2-2-2-2-2-2-2/2030-11-29/
LOCATION:Life Temple\, 764 McGuire Place\, Newport News\, VA\, 23601\, United States
CATEGORIES:Life Temple,Yoga
ORGANIZER;CN="Life Temple":MAILTO:director@lifetemple.earth
END:VEVENT
BEGIN:VEVENT
DTSTART;TZID=America/New_York:20301206T173000
DTEND;TZID=America/New_York:20301206T183000
DTSTAMP:20260420T152655
CREATED:20260420T143903Z
LAST-MODIFIED:20260420T143905Z
UID:10003408-1922808600-1922812200@lifetemple.earth
SUMMARY:Friday yoga: Strength & Stillness
DESCRIPTION:Join us at Life Temple on Fridays for a diverse and nurturing yoga experience. \nOur sessions alternate between traditional Hatha Yoga\, designed to build strength and flexibility\, and slower\, more mindful practices like Yin Yoga\, which focus on deep relaxation and releasing tension. \nThe classes offer a blend of movement and stillness that fosters a deeper mind-body connection and harmony. \nWhether you’re seeking a more dynamic experience or a deeply restorative practice\, each experience is an opportunity for you to expand and connect. \nTime: 5:30pm–6:30pm\nDonations are appreciated.
URL:https://lifetemple.earth/event/friday-yoga-strength-stillness-2-2-2-2-2-2-2/2030-12-06/
LOCATION:Life Temple\, 764 McGuire Place\, Newport News\, VA\, 23601\, United States
CATEGORIES:Life Temple,Yoga
ORGANIZER;CN="Life Temple":MAILTO:director@lifetemple.earth
END:VEVENT
BEGIN:VEVENT
DTSTART;TZID=America/New_York:20301213T173000
DTEND;TZID=America/New_York:20301213T183000
DTSTAMP:20260420T152655
CREATED:20260420T143903Z
LAST-MODIFIED:20260420T143905Z
UID:10003409-1923413400-1923417000@lifetemple.earth
SUMMARY:Friday yoga: Strength & Stillness
DESCRIPTION:Join us at Life Temple on Fridays for a diverse and nurturing yoga experience. \nOur sessions alternate between traditional Hatha Yoga\, designed to build strength and flexibility\, and slower\, more mindful practices like Yin Yoga\, which focus on deep relaxation and releasing tension. \nThe classes offer a blend of movement and stillness that fosters a deeper mind-body connection and harmony. \nWhether you’re seeking a more dynamic experience or a deeply restorative practice\, each experience is an opportunity for you to expand and connect. \nTime: 5:30pm–6:30pm\nDonations are appreciated.
URL:https://lifetemple.earth/event/friday-yoga-strength-stillness-2-2-2-2-2-2-2/2030-12-13/
LOCATION:Life Temple\, 764 McGuire Place\, Newport News\, VA\, 23601\, United States
CATEGORIES:Life Temple,Yoga
ORGANIZER;CN="Life Temple":MAILTO:director@lifetemple.earth
END:VEVENT
BEGIN:VEVENT
DTSTART;TZID=America/New_York:20301220T173000
DTEND;TZID=America/New_York:20301220T183000
DTSTAMP:20260420T152655
CREATED:20260420T143903Z
LAST-MODIFIED:20260420T143905Z
UID:10003410-1924018200-1924021800@lifetemple.earth
SUMMARY:Friday yoga: Strength & Stillness
DESCRIPTION:Join us at Life Temple on Fridays for a diverse and nurturing yoga experience. \nOur sessions alternate between traditional Hatha Yoga\, designed to build strength and flexibility\, and slower\, more mindful practices like Yin Yoga\, which focus on deep relaxation and releasing tension. \nThe classes offer a blend of movement and stillness that fosters a deeper mind-body connection and harmony. \nWhether you’re seeking a more dynamic experience or a deeply restorative practice\, each experience is an opportunity for you to expand and connect. \nTime: 5:30pm–6:30pm\nDonations are appreciated.
URL:https://lifetemple.earth/event/friday-yoga-strength-stillness-2-2-2-2-2-2-2/2030-12-20/
LOCATION:Life Temple\, 764 McGuire Place\, Newport News\, VA\, 23601\, United States
CATEGORIES:Life Temple,Yoga
ORGANIZER;CN="Life Temple":MAILTO:director@lifetemple.earth
END:VEVENT
BEGIN:VEVENT
DTSTART;TZID=America/New_York:20301227T173000
DTEND;TZID=America/New_York:20301227T183000
DTSTAMP:20260420T152655
CREATED:20260420T143903Z
LAST-MODIFIED:20260420T143905Z
UID:10003412-1924623000-1924626600@lifetemple.earth
SUMMARY:Friday yoga: Strength & Stillness
DESCRIPTION:Join us at Life Temple on Fridays for a diverse and nurturing yoga experience. \nOur sessions alternate between traditional Hatha Yoga\, designed to build strength and flexibility\, and slower\, more mindful practices like Yin Yoga\, which focus on deep relaxation and releasing tension. \nThe classes offer a blend of movement and stillness that fosters a deeper mind-body connection and harmony. \nWhether you’re seeking a more dynamic experience or a deeply restorative practice\, each experience is an opportunity for you to expand and connect. \nTime: 5:30pm–6:30pm\nDonations are appreciated.
URL:https://lifetemple.earth/event/friday-yoga-strength-stillness-2-2-2-2-2-2-2/2030-12-27/
LOCATION:Life Temple\, 764 McGuire Place\, Newport News\, VA\, 23601\, United States
CATEGORIES:Life Temple,Yoga
ORGANIZER;CN="Life Temple":MAILTO:director@lifetemple.earth
END:VEVENT
BEGIN:VEVENT
DTSTART;TZID=America/New_York:20310103T173000
DTEND;TZID=America/New_York:20310103T183000
DTSTAMP:20260420T152655
CREATED:20260420T143903Z
LAST-MODIFIED:20260420T143905Z
UID:10003413-1925227800-1925231400@lifetemple.earth
SUMMARY:Friday yoga: Strength & Stillness
DESCRIPTION:Join us at Life Temple on Fridays for a diverse and nurturing yoga experience. \nOur sessions alternate between traditional Hatha Yoga\, designed to build strength and flexibility\, and slower\, more mindful practices like Yin Yoga\, which focus on deep relaxation and releasing tension. \nThe classes offer a blend of movement and stillness that fosters a deeper mind-body connection and harmony. \nWhether you’re seeking a more dynamic experience or a deeply restorative practice\, each experience is an opportunity for you to expand and connect. \nTime: 5:30pm–6:30pm\nDonations are appreciated.
URL:https://lifetemple.earth/event/friday-yoga-strength-stillness-2-2-2-2-2-2-2/2031-01-03/
LOCATION:Life Temple\, 764 McGuire Place\, Newport News\, VA\, 23601\, United States
CATEGORIES:Life Temple,Yoga
ORGANIZER;CN="Life Temple":MAILTO:director@lifetemple.earth
END:VEVENT
BEGIN:VEVENT
DTSTART;TZID=America/New_York:20310110T173000
DTEND;TZID=America/New_York:20310110T183000
DTSTAMP:20260420T152655
CREATED:20260420T143903Z
LAST-MODIFIED:20260420T143905Z
UID:10003414-1925832600-1925836200@lifetemple.earth
SUMMARY:Friday yoga: Strength & Stillness
DESCRIPTION:Join us at Life Temple on Fridays for a diverse and nurturing yoga experience. \nOur sessions alternate between traditional Hatha Yoga\, designed to build strength and flexibility\, and slower\, more mindful practices like Yin Yoga\, which focus on deep relaxation and releasing tension. \nThe classes offer a blend of movement and stillness that fosters a deeper mind-body connection and harmony. \nWhether you’re seeking a more dynamic experience or a deeply restorative practice\, each experience is an opportunity for you to expand and connect. \nTime: 5:30pm–6:30pm\nDonations are appreciated.
URL:https://lifetemple.earth/event/friday-yoga-strength-stillness-2-2-2-2-2-2-2/2031-01-10/
LOCATION:Life Temple\, 764 McGuire Place\, Newport News\, VA\, 23601\, United States
CATEGORIES:Life Temple,Yoga
ORGANIZER;CN="Life Temple":MAILTO:director@lifetemple.earth
END:VEVENT
BEGIN:VEVENT
DTSTART;TZID=America/New_York:20310117T173000
DTEND;TZID=America/New_York:20310117T183000
DTSTAMP:20260420T152655
CREATED:20260420T143903Z
LAST-MODIFIED:20260420T143905Z
UID:10003415-1926437400-1926441000@lifetemple.earth
SUMMARY:Friday yoga: Strength & Stillness
DESCRIPTION:Join us at Life Temple on Fridays for a diverse and nurturing yoga experience. \nOur sessions alternate between traditional Hatha Yoga\, designed to build strength and flexibility\, and slower\, more mindful practices like Yin Yoga\, which focus on deep relaxation and releasing tension. \nThe classes offer a blend of movement and stillness that fosters a deeper mind-body connection and harmony. \nWhether you’re seeking a more dynamic experience or a deeply restorative practice\, each experience is an opportunity for you to expand and connect. \nTime: 5:30pm–6:30pm\nDonations are appreciated.
URL:https://lifetemple.earth/event/friday-yoga-strength-stillness-2-2-2-2-2-2-2/2031-01-17/
LOCATION:Life Temple\, 764 McGuire Place\, Newport News\, VA\, 23601\, United States
CATEGORIES:Life Temple,Yoga
ORGANIZER;CN="Life Temple":MAILTO:director@lifetemple.earth
END:VEVENT
BEGIN:VEVENT
DTSTART;TZID=America/New_York:20310124T173000
DTEND;TZID=America/New_York:20310124T183000
DTSTAMP:20260420T152655
CREATED:20260420T143903Z
LAST-MODIFIED:20260420T143905Z
UID:10003708-1927042200-1927045800@lifetemple.earth
SUMMARY:Friday yoga: Strength & Stillness
DESCRIPTION:Join us at Life Temple on Fridays for a diverse and nurturing yoga experience. \nOur sessions alternate between traditional Hatha Yoga\, designed to build strength and flexibility\, and slower\, more mindful practices like Yin Yoga\, which focus on deep relaxation and releasing tension. \nThe classes offer a blend of movement and stillness that fosters a deeper mind-body connection and harmony. \nWhether you’re seeking a more dynamic experience or a deeply restorative practice\, each experience is an opportunity for you to expand and connect. \nTime: 5:30pm–6:30pm\nDonations are appreciated.
URL:https://lifetemple.earth/event/friday-yoga-strength-stillness-2-2-2-2-2-2-2/2031-01-24/
LOCATION:Life Temple\, 764 McGuire Place\, Newport News\, VA\, 23601\, United States
CATEGORIES:Life Temple,Yoga
ORGANIZER;CN="Life Temple":MAILTO:director@lifetemple.earth
END:VEVENT
BEGIN:VEVENT
DTSTART;TZID=America/New_York:20310131T173000
DTEND;TZID=America/New_York:20310131T183000
DTSTAMP:20260420T152655
CREATED:20260420T143903Z
LAST-MODIFIED:20260420T143905Z
UID:10003709-1927647000-1927650600@lifetemple.earth
SUMMARY:Friday yoga: Strength & Stillness
DESCRIPTION:Join us at Life Temple on Fridays for a diverse and nurturing yoga experience. \nOur sessions alternate between traditional Hatha Yoga\, designed to build strength and flexibility\, and slower\, more mindful practices like Yin Yoga\, which focus on deep relaxation and releasing tension. \nThe classes offer a blend of movement and stillness that fosters a deeper mind-body connection and harmony. \nWhether you’re seeking a more dynamic experience or a deeply restorative practice\, each experience is an opportunity for you to expand and connect. \nTime: 5:30pm–6:30pm\nDonations are appreciated.
URL:https://lifetemple.earth/event/friday-yoga-strength-stillness-2-2-2-2-2-2-2/2031-01-31/
LOCATION:Life Temple\, 764 McGuire Place\, Newport News\, VA\, 23601\, United States
CATEGORIES:Life Temple,Yoga
ORGANIZER;CN="Life Temple":MAILTO:director@lifetemple.earth
END:VEVENT
BEGIN:VEVENT
DTSTART;TZID=America/New_York:20310207T173000
DTEND;TZID=America/New_York:20310207T183000
DTSTAMP:20260420T152655
CREATED:20260420T143903Z
LAST-MODIFIED:20260420T143905Z
UID:10003710-1928251800-1928255400@lifetemple.earth
SUMMARY:Friday yoga: Strength & Stillness
DESCRIPTION:Join us at Life Temple on Fridays for a diverse and nurturing yoga experience. \nOur sessions alternate between traditional Hatha Yoga\, designed to build strength and flexibility\, and slower\, more mindful practices like Yin Yoga\, which focus on deep relaxation and releasing tension. \nThe classes offer a blend of movement and stillness that fosters a deeper mind-body connection and harmony. \nWhether you’re seeking a more dynamic experience or a deeply restorative practice\, each experience is an opportunity for you to expand and connect. \nTime: 5:30pm–6:30pm\nDonations are appreciated.
URL:https://lifetemple.earth/event/friday-yoga-strength-stillness-2-2-2-2-2-2-2/2031-02-07/
LOCATION:Life Temple\, 764 McGuire Place\, Newport News\, VA\, 23601\, United States
CATEGORIES:Life Temple,Yoga
ORGANIZER;CN="Life Temple":MAILTO:director@lifetemple.earth
END:VEVENT
BEGIN:VEVENT
DTSTART;TZID=America/New_York:20310214T173000
DTEND;TZID=America/New_York:20310214T183000
DTSTAMP:20260420T152655
CREATED:20260420T143903Z
LAST-MODIFIED:20260420T143905Z
UID:10003711-1928856600-1928860200@lifetemple.earth
SUMMARY:Friday yoga: Strength & Stillness
DESCRIPTION:Join us at Life Temple on Fridays for a diverse and nurturing yoga experience. \nOur sessions alternate between traditional Hatha Yoga\, designed to build strength and flexibility\, and slower\, more mindful practices like Yin Yoga\, which focus on deep relaxation and releasing tension. \nThe classes offer a blend of movement and stillness that fosters a deeper mind-body connection and harmony. \nWhether you’re seeking a more dynamic experience or a deeply restorative practice\, each experience is an opportunity for you to expand and connect. \nTime: 5:30pm–6:30pm\nDonations are appreciated.
URL:https://lifetemple.earth/event/friday-yoga-strength-stillness-2-2-2-2-2-2-2/2031-02-14/
LOCATION:Life Temple\, 764 McGuire Place\, Newport News\, VA\, 23601\, United States
CATEGORIES:Life Temple,Yoga
ORGANIZER;CN="Life Temple":MAILTO:director@lifetemple.earth
END:VEVENT
BEGIN:VEVENT
DTSTART;TZID=America/New_York:20310221T173000
DTEND;TZID=America/New_York:20310221T183000
DTSTAMP:20260420T152655
CREATED:20260420T143903Z
LAST-MODIFIED:20260420T143905Z
UID:10003712-1929461400-1929465000@lifetemple.earth
SUMMARY:Friday yoga: Strength & Stillness
DESCRIPTION:Join us at Life Temple on Fridays for a diverse and nurturing yoga experience. \nOur sessions alternate between traditional Hatha Yoga\, designed to build strength and flexibility\, and slower\, more mindful practices like Yin Yoga\, which focus on deep relaxation and releasing tension. \nThe classes offer a blend of movement and stillness that fosters a deeper mind-body connection and harmony. \nWhether you’re seeking a more dynamic experience or a deeply restorative practice\, each experience is an opportunity for you to expand and connect. \nTime: 5:30pm–6:30pm\nDonations are appreciated.
URL:https://lifetemple.earth/event/friday-yoga-strength-stillness-2-2-2-2-2-2-2/2031-02-21/
LOCATION:Life Temple\, 764 McGuire Place\, Newport News\, VA\, 23601\, United States
CATEGORIES:Life Temple,Yoga
ORGANIZER;CN="Life Temple":MAILTO:director@lifetemple.earth
END:VEVENT
BEGIN:VEVENT
DTSTART;TZID=America/New_York:20310228T173000
DTEND;TZID=America/New_York:20310228T183000
DTSTAMP:20260420T152655
CREATED:20260420T143903Z
LAST-MODIFIED:20260420T143905Z
UID:10003713-1930066200-1930069800@lifetemple.earth
SUMMARY:Friday yoga: Strength & Stillness
DESCRIPTION:Join us at Life Temple on Fridays for a diverse and nurturing yoga experience. \nOur sessions alternate between traditional Hatha Yoga\, designed to build strength and flexibility\, and slower\, more mindful practices like Yin Yoga\, which focus on deep relaxation and releasing tension. \nThe classes offer a blend of movement and stillness that fosters a deeper mind-body connection and harmony. \nWhether you’re seeking a more dynamic experience or a deeply restorative practice\, each experience is an opportunity for you to expand and connect. \nTime: 5:30pm–6:30pm\nDonations are appreciated.
URL:https://lifetemple.earth/event/friday-yoga-strength-stillness-2-2-2-2-2-2-2/2031-02-28/
LOCATION:Life Temple\, 764 McGuire Place\, Newport News\, VA\, 23601\, United States
CATEGORIES:Life Temple,Yoga
ORGANIZER;CN="Life Temple":MAILTO:director@lifetemple.earth
END:VEVENT
BEGIN:VEVENT
DTSTART;TZID=America/New_York:20310307T173000
DTEND;TZID=America/New_York:20310307T183000
DTSTAMP:20260420T152655
CREATED:20260420T143903Z
LAST-MODIFIED:20260420T143905Z
UID:10003714-1930671000-1930674600@lifetemple.earth
SUMMARY:Friday yoga: Strength & Stillness
DESCRIPTION:Join us at Life Temple on Fridays for a diverse and nurturing yoga experience. \nOur sessions alternate between traditional Hatha Yoga\, designed to build strength and flexibility\, and slower\, more mindful practices like Yin Yoga\, which focus on deep relaxation and releasing tension. \nThe classes offer a blend of movement and stillness that fosters a deeper mind-body connection and harmony. \nWhether you’re seeking a more dynamic experience or a deeply restorative practice\, each experience is an opportunity for you to expand and connect. \nTime: 5:30pm–6:30pm\nDonations are appreciated.
URL:https://lifetemple.earth/event/friday-yoga-strength-stillness-2-2-2-2-2-2-2/2031-03-07/
LOCATION:Life Temple\, 764 McGuire Place\, Newport News\, VA\, 23601\, United States
CATEGORIES:Life Temple,Yoga
ORGANIZER;CN="Life Temple":MAILTO:director@lifetemple.earth
END:VEVENT
BEGIN:VEVENT
DTSTART;TZID=America/New_York:20310314T173000
DTEND;TZID=America/New_York:20310314T183000
DTSTAMP:20260420T152655
CREATED:20260420T143903Z
LAST-MODIFIED:20260420T143905Z
UID:10003715-1931275800-1931279400@lifetemple.earth
SUMMARY:Friday yoga: Strength & Stillness
DESCRIPTION:Join us at Life Temple on Fridays for a diverse and nurturing yoga experience. \nOur sessions alternate between traditional Hatha Yoga\, designed to build strength and flexibility\, and slower\, more mindful practices like Yin Yoga\, which focus on deep relaxation and releasing tension. \nThe classes offer a blend of movement and stillness that fosters a deeper mind-body connection and harmony. \nWhether you’re seeking a more dynamic experience or a deeply restorative practice\, each experience is an opportunity for you to expand and connect. \nTime: 5:30pm–6:30pm\nDonations are appreciated.
URL:https://lifetemple.earth/event/friday-yoga-strength-stillness-2-2-2-2-2-2-2/2031-03-14/
LOCATION:Life Temple\, 764 McGuire Place\, Newport News\, VA\, 23601\, United States
CATEGORIES:Life Temple,Yoga
ORGANIZER;CN="Life Temple":MAILTO:director@lifetemple.earth
END:VEVENT
BEGIN:VEVENT
DTSTART;TZID=America/New_York:20310321T173000
DTEND;TZID=America/New_York:20310321T183000
DTSTAMP:20260420T152655
CREATED:20260420T143903Z
LAST-MODIFIED:20260420T143905Z
UID:10003716-1931880600-1931884200@lifetemple.earth
SUMMARY:Friday yoga: Strength & Stillness
DESCRIPTION:Join us at Life Temple on Fridays for a diverse and nurturing yoga experience. \nOur sessions alternate between traditional Hatha Yoga\, designed to build strength and flexibility\, and slower\, more mindful practices like Yin Yoga\, which focus on deep relaxation and releasing tension. \nThe classes offer a blend of movement and stillness that fosters a deeper mind-body connection and harmony. \nWhether you’re seeking a more dynamic experience or a deeply restorative practice\, each experience is an opportunity for you to expand and connect. \nTime: 5:30pm–6:30pm\nDonations are appreciated.
URL:https://lifetemple.earth/event/friday-yoga-strength-stillness-2-2-2-2-2-2-2/2031-03-21/
LOCATION:Life Temple\, 764 McGuire Place\, Newport News\, VA\, 23601\, United States
CATEGORIES:Life Temple,Yoga
ORGANIZER;CN="Life Temple":MAILTO:director@lifetemple.earth
END:VEVENT
BEGIN:VEVENT
DTSTART;TZID=America/New_York:20310328T173000
DTEND;TZID=America/New_York:20310328T183000
DTSTAMP:20260420T152655
CREATED:20260420T143903Z
LAST-MODIFIED:20260420T143905Z
UID:10003717-1932485400-1932489000@lifetemple.earth
SUMMARY:Friday yoga: Strength & Stillness
DESCRIPTION:Join us at Life Temple on Fridays for a diverse and nurturing yoga experience. \nOur sessions alternate between traditional Hatha Yoga\, designed to build strength and flexibility\, and slower\, more mindful practices like Yin Yoga\, which focus on deep relaxation and releasing tension. \nThe classes offer a blend of movement and stillness that fosters a deeper mind-body connection and harmony. \nWhether you’re seeking a more dynamic experience or a deeply restorative practice\, each experience is an opportunity for you to expand and connect. \nTime: 5:30pm–6:30pm\nDonations are appreciated.
URL:https://lifetemple.earth/event/friday-yoga-strength-stillness-2-2-2-2-2-2-2/2031-03-28/
LOCATION:Life Temple\, 764 McGuire Place\, Newport News\, VA\, 23601\, United States
CATEGORIES:Life Temple,Yoga
ORGANIZER;CN="Life Temple":MAILTO:director@lifetemple.earth
END:VEVENT
BEGIN:VEVENT
DTSTART;TZID=America/New_York:20310404T173000
DTEND;TZID=America/New_York:20310404T183000
DTSTAMP:20260420T152655
CREATED:20260420T143903Z
LAST-MODIFIED:20260420T143905Z
UID:10003718-1933090200-1933093800@lifetemple.earth
SUMMARY:Friday yoga: Strength & Stillness
DESCRIPTION:Join us at Life Temple on Fridays for a diverse and nurturing yoga experience. \nOur sessions alternate between traditional Hatha Yoga\, designed to build strength and flexibility\, and slower\, more mindful practices like Yin Yoga\, which focus on deep relaxation and releasing tension. \nThe classes offer a blend of movement and stillness that fosters a deeper mind-body connection and harmony. \nWhether you’re seeking a more dynamic experience or a deeply restorative practice\, each experience is an opportunity for you to expand and connect. \nTime: 5:30pm–6:30pm\nDonations are appreciated.
URL:https://lifetemple.earth/event/friday-yoga-strength-stillness-2-2-2-2-2-2-2/2031-04-04/
LOCATION:Life Temple\, 764 McGuire Place\, Newport News\, VA\, 23601\, United States
CATEGORIES:Life Temple,Yoga
ORGANIZER;CN="Life Temple":MAILTO:director@lifetemple.earth
END:VEVENT
BEGIN:VEVENT
DTSTART;TZID=America/New_York:20310411T173000
DTEND;TZID=America/New_York:20310411T183000
DTSTAMP:20260420T152655
CREATED:20260420T143903Z
LAST-MODIFIED:20260420T143905Z
UID:10003719-1933695000-1933698600@lifetemple.earth
SUMMARY:Friday yoga: Strength & Stillness
DESCRIPTION:Join us at Life Temple on Fridays for a diverse and nurturing yoga experience. \nOur sessions alternate between traditional Hatha Yoga\, designed to build strength and flexibility\, and slower\, more mindful practices like Yin Yoga\, which focus on deep relaxation and releasing tension. \nThe classes offer a blend of movement and stillness that fosters a deeper mind-body connection and harmony. \nWhether you’re seeking a more dynamic experience or a deeply restorative practice\, each experience is an opportunity for you to expand and connect. \nTime: 5:30pm–6:30pm\nDonations are appreciated.
URL:https://lifetemple.earth/event/friday-yoga-strength-stillness-2-2-2-2-2-2-2/2031-04-11/
LOCATION:Life Temple\, 764 McGuire Place\, Newport News\, VA\, 23601\, United States
CATEGORIES:Life Temple,Yoga
ORGANIZER;CN="Life Temple":MAILTO:director@lifetemple.earth
END:VEVENT
BEGIN:VEVENT
DTSTART;TZID=America/New_York:20310418T173000
DTEND;TZID=America/New_York:20310418T183000
DTSTAMP:20260420T152655
CREATED:20260420T143903Z
LAST-MODIFIED:20260420T143905Z
UID:10003720-1934299800-1934303400@lifetemple.earth
SUMMARY:Friday yoga: Strength & Stillness
DESCRIPTION:Join us at Life Temple on Fridays for a diverse and nurturing yoga experience. \nOur sessions alternate between traditional Hatha Yoga\, designed to build strength and flexibility\, and slower\, more mindful practices like Yin Yoga\, which focus on deep relaxation and releasing tension. \nThe classes offer a blend of movement and stillness that fosters a deeper mind-body connection and harmony. \nWhether you’re seeking a more dynamic experience or a deeply restorative practice\, each experience is an opportunity for you to expand and connect. \nTime: 5:30pm–6:30pm\nDonations are appreciated.
URL:https://lifetemple.earth/event/friday-yoga-strength-stillness-2-2-2-2-2-2-2/2031-04-18/
LOCATION:Life Temple\, 764 McGuire Place\, Newport News\, VA\, 23601\, United States
CATEGORIES:Life Temple,Yoga
ORGANIZER;CN="Life Temple":MAILTO:director@lifetemple.earth
END:VEVENT
END:VCALENDAR